Workbook

Sheet 従業員別コスト試算
A1: 社会保険 適用拡大 会社負担コスト試算シート
A2: 黄色いセルに入力してください。保険料率は協会けんぽの都道府県別料率に置き換えて使います。
A4: 健康保険料率（％・労使合計） | B4: 10
A5: 介護保険料率（％・40歳以上） | B5: 1.6
A6: 厚生年金保険料率（％・労使合計） | B6: 18.3
A8: 氏名・No | B8: 週の所定労働時間 | C8: 月額賃金（円） | D8: 40歳以上 | E8: 加入対象の判定 | F8: 標準報酬月額 | G8: 会社負担（月額） | H8: 会社負担（年額） | I8: 本人負担（月額・本来） | J8: 本人負担（月額・軽減特例）
E9: =IF(C9="","",IF(B9>=30,"加入対象（正社員相当）",IF(AND(B9>=20,C9>=88000),"加入対象（短時間労働者・現行）",IF(B9>=20,"賃金要件の撤廃後に加入対象","対象外")))) | F9: =IF(C9="","",LOOKUP(C9,標準報酬月額表!$A$3:$A$12,標準報酬月額表!$C$3:$C$12)) | G9: =IF(OR(C9="",LEFT(E9,4)<>"加入対象"),"",ROUND(F9*(($B$4+IF(D9="はい",$B$5,0)+$B$6)/100)/2,0)) | H9: =IF(G9="","",G9*12) | I9: =IF(G9="","",G9) | J9: =IF(OR(G9="",F9>126000),"",ROUND(G9*LOOKUP(F9,標準報酬月額表!$C$3:$C$12,標準報酬月額表!$E$3:$E$12),0))
E10: =IF(C10="","",IF(B10>=30,"加入対象（正社員相当）",IF(AND(B10>=20,C10>=88000),"加入対象（短時間労働者・現行）",IF(B10>=20,"賃金要件の撤廃後に加入対象","対象外")))) | F10: =IF(C10="","",LOOKUP(C10,標準報酬月額表!$A$3:$A$12,標準報酬月額表!$C$3:$C$12)) | G10: =IF(OR(C10="",LEFT(E10,4)<>"加入対象"),"",ROUND(F10*(($B$4+IF(D10="はい",$B$5,0)+$B$6)/100)/2,0)) | H10: =IF(G10="","",G10*12) | I10: =IF(G10="","",G10) | J10: =IF(OR(G10="",F10>126000),"",ROUND(G10*LOOKUP(F10,標準報酬月額表!$C$3:$C$12,標準報酬月額表!$E$3:$E$12),0))
E11: =IF(C11="","",IF(B11>=30,"加入対象（正社員相当）",IF(AND(B11>=20,C11>=88000),"加入対象（短時間労働者・現行）",IF(B11>=20,"賃金要件の撤廃後に加入対象","対象外")))) | F11: =IF(C11="","",LOOKUP(C11,標準報酬月額表!$A$3:$A$12,標準報酬月額表!$C$3:$C$12)) | G11: =IF(OR(C11="",LEFT(E11,4)<>"加入対象"),"",ROUND(F11*(($B$4+IF(D11="はい",$B$5,0)+$B$6)/100)/2,0)) | H11: =IF(G11="","",G11*12) | I11: =IF(G11="","",G11) | J11: =IF(OR(G11="",F11>126000),"",ROUND(G11*LOOKUP(F11,標準報酬月額表!$C$3:$C$12,標準報酬月額表!$E$3:$E$12),0))
E12: =IF(C12="","",IF(B12>=30,"加入対象（正社員相当）",IF(AND(B12>=20,C12>=88000),"加入対象（短時間労働者・現行）",IF(B12>=20,"賃金要件の撤廃後に加入対象","対象外")))) | F12: =IF(C12="","",LOOKUP(C12,標準報酬月額表!$A$3:$A$12,標準報酬月額表!$C$3:$C$12)) | G12: =IF(OR(C12="",LEFT(E12,4)<>"加入対象"),"",ROUND(F12*(($B$4+IF(D12="はい",$B$5,0)+$B$6)/100)/2,0)) | H12: =IF(G12="","",G12*12) | I12: =IF(G12="","",G12) | J12: =IF(OR(G12="",F12>126000),"",ROUND(G12*LOOKUP(F12,標準報酬月額表!$C$3:$C$12,標準報酬月額表!$E$3:$E$12),0))
E13: =IF(C13="","",IF(B13>=30,"加入対象（正社員相当）",IF(AND(B13>=20,C13>=88000),"加入対象（短時間労働者・現行）",IF(B13>=20,"賃金要件の撤廃後に加入対象","対象外")))) | F13: =IF(C13="","",LOOKUP(C13,標準報酬月額表!$A$3:$A$12,標準報酬月額表!$C$3:$C$12)) | G13: =IF(OR(C13="",LEFT(E13,4)<>"加入対象"),"",ROUND(F13*(($B$4+IF(D13="はい",$B$5,0)+$B$6)/100)/2,0)) | H13: =IF(G13="","",G13*12) | I13: =IF(G13="","",G13) | J13: =IF(OR(G13="",F13>126000),"",ROUND(G13*LOOKUP(F13,標準報酬月額表!$C$3:$C$12,標準報酬月額表!$E$3:$E$12),0))
E14: =IF(C14="","",IF(B14>=30,"加入対象（正社員相当）",IF(AND(B14>=20,C14>=88000),"加入対象（短時間労働者・現行）",IF(B14>=20,"賃金要件の撤廃後に加入対象","対象外")))) | F14: =IF(C14="","",LOOKUP(C14,標準報酬月額表!$A$3:$A$12,標準報酬月額表!$C$3:$C$12)) | G14: =IF(OR(C14="",LEFT(E14,4)<>"加入対象"),"",ROUND(F14*(($B$4+IF(D14="はい",$B$5,0)+$B$6)/100)/2,0)) | H14: =IF(G14="","",G14*12) | I14: =IF(G14="","",G14) | J14: =IF(OR(G14="",F14>126000),"",ROUND(G14*LOOKUP(F14,標準報酬月額表!$C$3:$C$12,標準報酬月額表!$E$3:$E$12),0))
E15: =IF(C15="","",IF(B15>=30,"加入対象（正社員相当）",IF(AND(B15>=20,C15>=88000),"加入対象（短時間労働者・現行）",IF(B15>=20,"賃金要件の撤廃後に加入対象","対象外")))) | F15: =IF(C15="","",LOOKUP(C15,標準報酬月額表!$A$3:$A$12,標準報酬月額表!$C$3:$C$12)) | G15: =IF(OR(C15="",LEFT(E15,4)<>"加入対象"),"",ROUND(F15*(($B$4+IF(D15="はい",$B$5,0)+$B$6)/100)/2,0)) | H15: =IF(G15="","",G15*12) | I15: =IF(G15="","",G15) | J15: =IF(OR(G15="",F15>126000),"",ROUND(G15*LOOKUP(F15,標準報酬月額表!$C$3:$C$12,標準報酬月額表!$E$3:$E$12),0))
E16: =IF(C16="","",IF(B16>=30,"加入対象（正社員相当）",IF(AND(B16>=20,C16>=88000),"加入対象（短時間労働者・現行）",IF(B16>=20,"賃金要件の撤廃後に加入対象","対象外")))) | F16: =IF(C16="","",LOOKUP(C16,標準報酬月額表!$A$3:$A$12,標準報酬月額表!$C$3:$C$12)) | G16: =IF(OR(C16="",LEFT(E16,4)<>"加入対象"),"",ROUND(F16*(($B$4+IF(D16="はい",$B$5,0)+$B$6)/100)/2,0)) | H16: =IF(G16="","",G16*12) | I16: =IF(G16="","",G16) | J16: =IF(OR(G16="",F16>126000),"",ROUND(G16*LOOKUP(F16,標準報酬月額表!$C$3:$C$12,標準報酬月額表!$E$3:$E$12),0))
E17: =IF(C17="","",IF(B17>=30,"加入対象（正社員相当）",IF(AND(B17>=20,C17>=88000),"加入対象（短時間労働者・現行）",IF(B17>=20,"賃金要件の撤廃後に加入対象","対象外")))) | F17: =IF(C17="","",LOOKUP(C17,標準報酬月額表!$A$3:$A$12,標準報酬月額表!$C$3:$C$12)) | G17: =IF(OR(C17="",LEFT(E17,4)<>"加入対象"),"",ROUND(F17*(($B$4+IF(D17="はい",$B$5,0)+$B$6)/100)/2,0)) | H17: =IF(G17="","",G17*12) | I17: =IF(G17="","",G17) | J17: =IF(OR(G17="",F17>126000),"",ROUND(G17*LOOKUP(F17,標準報酬月額表!$C$3:$C$12,標準報酬月額表!$E$3:$E$12),0))
E18: =IF(C18="","",IF(B18>=30,"加入対象（正社員相当）",IF(AND(B18>=20,C18>=88000),"加入対象（短時間労働者・現行）",IF(B18>=20,"賃金要件の撤廃後に加入対象","対象外")))) | F18: =IF(C18="","",LOOKUP(C18,標準報酬月額表!$A$3:$A$12,標準報酬月額表!$C$3:$C$12)) | G18: =IF(OR(C18="",LEFT(E18,4)<>"加入対象"),"",ROUND(F18*(($B$4+IF(D18="はい",$B$5,0)+$B$6)/100)/2,0)) | H18: =IF(G18="","",G18*12) | I18: =IF(G18="","",G18) | J18: =IF(OR(G18="",F18>126000),"",ROUND(G18*LOOKUP(F18,標準報酬月額表!$C$3:$C$12,標準報酬月額表!$E$3:$E$12),0))
E19: =IF(C19="","",IF(B19>=30,"加入対象（正社員相当）",IF(AND(B19>=20,C19>=88000),"加入対象（短時間労働者・現行）",IF(B19>=20,"賃金要件の撤廃後に加入対象","対象外")))) | F19: =IF(C19="","",LOOKUP(C19,標準報酬月額表!$A$3:$A$12,標準報酬月額表!$C$3:$C$12)) | G19: =IF(OR(C19="",LEFT(E19,4)<>"加入対象"),"",ROUND(F19*(($B$4+IF(D19="はい",$B$5,0)+$B$6)/100)/2,0)) | H19: =IF(G19="","",G19*12) | I19: =IF(G19="","",G19) | J19: =IF(OR(G19="",F19>126000),"",ROUND(G19*LOOKUP(F19,標準報酬月額表!$C$3:$C$12,標準報酬月額表!$E$3:$E$12),0))
E20: =IF(C20="","",IF(B20>=30,"加入対象（正社員相当）",IF(AND(B20>=20,C20>=88000),"加入対象（短時間労働者・現行）",IF(B20>=20,"賃金要件の撤廃後に加入対象","対象外")))) | F20: =IF(C20="","",LOOKUP(C20,標準報酬月額表!$A$3:$A$12,標準報酬月額表!$C$3:$C$12)) | G20: =IF(OR(C20="",LEFT(E20,4)<>"加入対象"),"",ROUND(F20*(($B$4+IF(D20="はい",$B$5,0)+$B$6)/100)/2,0)) | H20: =IF(G20="","",G20*12) | I20: =IF(G20="","",G20) | J20: =IF(OR(G20="",F20>126000),"",ROUND(G20*LOOKUP(F20,標準報酬月額表!$C$3:$C$12,標準報酬月額表!$E$3:$E$12),0))
... E58: =IF(C58="","",IF(B58>=30,"加入対象（正社員相当）",IF(AND(B58>=20,C58>=88000),"加入対象（短時間労働者・現行）",IF(B58>=20,"賃金要件の撤廃後に加入対象","対象外")))) | F58: =IF(C58="","",LOOKUP(C58,標準報酬月額表!$A$3:$A$12,標準報酬月額表!$C$3:$C$12)) | G58: =IF(OR(C58="",LEFT(E58,4)<>"加入対象"),"",ROUND(F58*(($B$4+IF(D58="はい",$B$5,0)+$B$6)/100)/2,0)) | H58: =IF(G58="","",G58*12) | I58: =IF(G58="","",G58) | J58: =IF(OR(G58="",F58>126000),"",ROUND(G58*LOOKUP(F58,標準報酬月額表!$C$3:$C$12,標準報酬月額表!$E$3:$E$12),0))
A60: 合計 | G60: =SUM(G9:G58) -> 0 | H60: =SUM(H9:H58) -> 0
A62: ※ 会社負担は労使折半分（健康保険＋介護保険＋厚生年金）の概算です。子ども・子育て拠出金、労働保険料は含みません。
A63: ※「本人負担（軽減特例）」は、新たに加入対象となる方に3年間適用される特例の初年度〜2年目のイメージです（3年目は軽減割合が半減）。

Sheet 標準報酬月額表
A1: 標準報酬月額と保険料負担軽減特例の対応表（短時間労働者の該当レンジ）
A2: 下限（円以上） | B2: 上限（円未満） | C2: 標準報酬月額 | D2: 年収換算の目安 | E2: 軽減後の本人負担割合
A3: 83000 | B3: 93000 | C3: 88000 | D3: 1056000 | E3: 0.5
A4: 93000 | B4: 101000 | C4: 98000 | D4: 1176000 | E4: 0.6
A5: 101000 | B5: 107000 | C5: 104000 | D5: 1248000 | E5: 0.72
A6: 107000 | B6: 114000 | C6: 110000 | D6: 1320000 | E6: 0.82
A7: 114000 | B7: 122000 | C7: 118000 | D7: 1416000 | E7: 0.9
A8: 122000 | B8: 130000 | C8: 126000 | D8: 1512000 | E8: 0.96
A9: 130000 | B9: 138000 | C9: 134000 | D9: 1608000 | E9: 1
A10: 138000 | B10: 146000 | C10: 142000 | D10: 1704000 | E10: 1
A11: 146000 | B11: 155000 | C11: 150000 | D11: 1800000 | E11: 1
A12: 155000 | C12: 160000 | D12: 1920000 | E12: 1
A14: ※ 軽減割合は厚生労働省資料の区分（8.8万円=25/50、9.8万円=30/50、10.4万円=36/50、11万円=41/50、11.8万円=45/50、12.6万円=48/50、13.4万円以上=軽減なし）によります。

Sheet 施行スケジュール
A1: 社会保険の適用拡大 施行スケジュール（年金制度改正法・2025年6月13日成立）
A3: 時期 | B3: 内容 | C3: 自社への影響（記入欄）
A4: 2026年10月〜 | B4: 新たに加入対象となる短時間労働者への保険料負担軽減の特例措置が開始（3年間・会社が追加負担し、その全額を制度全体で支援）
A5: 2027年10月〜 | B5: 企業規模要件が従業員36人以上の企業まで拡大
A6: 2029年10月〜 | B6: 企業規模要件が従業員21人以上の企業まで拡大／常時5人以上を使用する個人事業所の適用業種を拡大
A7: 2032年10月〜 | B7: 企業規模要件が従業員11人以上の企業まで拡大
A8: 2035年10月〜 | B8: 企業規模要件を撤廃（従業員10人以下の企業も対象）
A9: 公布から3年以内の政令で定める日 | B9: 賃金要件（月額8.8万円以上）を撤廃。時期は全国の最低賃金の引上げ状況を見極めて判断
A10: 時期を問わず | B10: 労使合意に基づく任意適用（特定適用事業所以外でも加入可能）
A12: 出典：厚生労働省年金局『年金制度改正法に関する広報について』（第21回年金広報検討会 資料2-3・令和7年7月30日）

Sheet 使い方・出典
A1: 使い方
A2: 1. 「施行スケジュール」で自社が対象になる時期を確認します（従業員数の数え方は厚生年金の被保険者数ベース）。
A3: 2. 「従業員別コスト試算」に週の所定労働時間と月額賃金を入力すると、加入対象の判定と会社負担が出ます。
A4: 3. 保険料率は協会けんぽの都道府県別料率（または健康保険組合の料率）に置き換えてください。
A5: 4. Word版「従業員向け説明文書」ひな形で、対象者への案内を行います。
A7: 出典・根拠
A8: 厚生労働省年金局『年金制度改正法に関する広報について』（令和7年7月30日 第21回年金広報検討会 資料2-3）
A9: https://www.mhlw.go.jp/content/12401000/001523467.pdf
A11: 作成：イザークコンサルティング株式会社（https://ezark-tax-accounting.com/）
A12: 本テンプレートは情報提供を目的としたものです。個別の取扱いは社会保険労務士・税理士等の専門家にご確認ください。
