Workbook

Sheet 判定・集計
A1: 障害者控除 判定・集計シート（令和8年分 年末調整用）
A2: 黄色の列をプルダウンで選ぶと区分と控除額が出ます。所得税=所得税法79条、住民税=地方税法314条の2。個別の判断は税務署・市区町村・専門家にご確認ください。
A4: 従業員名 | B4: 対象者の氏名 | C4: 対象者 | D4: 合計所得金額の見積額（令和8年） | E4: 障害の根拠 | F4: 同居 | G4: 区分 | H4: 所得税の控除額 | I4: 住民税の控除額 | J4: 申告書C欄の列 | K4: 内容欄のメモ（手帳の種類・等級・交付年月日）
A5: 山川太郎 | B5: 山川隆雄 | C5: 扶養親族（16歳未満を含む） | D5: 62万円以下 | E5: 身体障害者手帳 3級〜6級 | F5: 同居 | G5: =IF(OR(C5="",E5=""),"",IF(C5="特定親族","対象外",IF(AND(C5<>"本人",D5="62万円超"),"対象外",IF(IFERROR(VLOOKUP(E5,区分表!$A$2:$B$18,2,FALSE),"")="対象外","対象外",IF(IFERROR(VLOOKUP(E5,区分表!$A$2:$B$18,2,FALSE),"")="一般","一般の障害者",IF(AND(C5<>"本人",F5="同居"),"同居特別障害者","特別障害者")))))) | H5: =IF(G5="","",IF(G5="一般の障害者",270000,IF(G5="特別障害者",400000,IF(G5="同居特別障害者",750000,0)))) | I5: =IF(G5="","",IF(G5="対象外",0,IF(G5="一般の障害者",260000,IF(G5="特別障害者",300000,530000)))) | J5: =IF(OR(G5="",G5="対象外"),"",IF(C5="本人","本人",IF(C5="配偶者","同一生計配偶者","扶養親族（人数）"))) | K5: 身体障害者手帳 3級 平成28年4月11日交付（国税庁記載例と同じ設例）
G6: =IF(OR(C6="",E6=""),"",IF(C6="特定親族","対象外",IF(AND(C6<>"本人",D6="62万円超"),"対象外",IF(IFERROR(VLOOKUP(E6,区分表!$A$2:$B$18,2,FALSE),"")="対象外","対象外",IF(IFERROR(VLOOKUP(E6,区分表!$A$2:$B$18,2,FALSE),"")="一般","一般の障害者",IF(AND(C6<>"本人",F6="同居"),"同居特別障害者","特別障害者")))))) | H6: =IF(G6="","",IF(G6="一般の障害者",270000,IF(G6="特別障害者",400000,IF(G6="同居特別障害者",750000,0)))) | I6: =IF(G6="","",IF(G6="対象外",0,IF(G6="一般の障害者",260000,IF(G6="特別障害者",300000,530000)))) | J6: =IF(OR(G6="",G6="対象外"),"",IF(C6="本人","本人",IF(C6="配偶者","同一生計配偶者","扶養親族（人数）")))
G7: =IF(OR(C7="",E7=""),"",IF(C7="特定親族","対象外",IF(AND(C7<>"本人",D7="62万円超"),"対象外",IF(IFERROR(VLOOKUP(E7,区分表!$A$2:$B$18,2,FALSE),"")="対象外","対象外",IF(IFERROR(VLOOKUP(E7,区分表!$A$2:$B$18,2,FALSE),"")="一般","一般の障害者",IF(AND(C7<>"本人",F7="同居"),"同居特別障害者","特別障害者")))))) | H7: =IF(G7="","",IF(G7="一般の障害者",270000,IF(G7="特別障害者",400000,IF(G7="同居特別障害者",750000,0)))) | I7: =IF(G7="","",IF(G7="対象外",0,IF(G7="一般の障害者",260000,IF(G7="特別障害者",300000,530000)))) | J7: =IF(OR(G7="",G7="対象外"),"",IF(C7="本人","本人",IF(C7="配偶者","同一生計配偶者","扶養親族（人数）")))
G8: =IF(OR(C8="",E8=""),"",IF(C8="特定親族","対象外",IF(AND(C8<>"本人",D8="62万円超"),"対象外",IF(IFERROR(VLOOKUP(E8,区分表!$A$2:$B$18,2,FALSE),"")="対象外","対象外",IF(IFERROR(VLOOKUP(E8,区分表!$A$2:$B$18,2,FALSE),"")="一般","一般の障害者",IF(AND(C8<>"本人",F8="同居"),"同居特別障害者","特別障害者")))))) | H8: =IF(G8="","",IF(G8="一般の障害者",270000,IF(G8="特別障害者",400000,IF(G8="同居特別障害者",750000,0)))) | I8: =IF(G8="","",IF(G8="対象外",0,IF(G8="一般の障害者",260000,IF(G8="特別障害者",300000,530000)))) | J8: =IF(OR(G8="",G8="対象外"),"",IF(C8="本人","本人",IF(C8="配偶者","同一生計配偶者","扶養親族（人数）")))
G9: =IF(OR(C9="",E9=""),"",IF(C9="特定親族","対象外",IF(AND(C9<>"本人",D9="62万円超"),"対象外",IF(IFERROR(VLOOKUP(E9,区分表!$A$2:$B$18,2,FALSE),"")="対象外","対象外",IF(IFERROR(VLOOKUP(E9,区分表!$A$2:$B$18,2,FALSE),"")="一般","一般の障害者",IF(AND(C9<>"本人",F9="同居"),"同居特別障害者","特別障害者")))))) | H9: =IF(G9="","",IF(G9="一般の障害者",270000,IF(G9="特別障害者",400000,IF(G9="同居特別障害者",750000,0)))) | I9: =IF(G9="","",IF(G9="対象外",0,IF(G9="一般の障害者",260000,IF(G9="特別障害者",300000,530000)))) | J9: =IF(OR(G9="",G9="対象外"),"",IF(C9="本人","本人",IF(C9="配偶者","同一生計配偶者","扶養親族（人数）")))
G10: =IF(OR(C10="",E10=""),"",IF(C10="特定親族","対象外",IF(AND(C10<>"本人",D10="62万円超"),"対象外",IF(IFERROR(VLOOKUP(E10,区分表!$A$2:$B$18,2,FALSE),"")="対象外","対象外",IF(IFERROR(VLOOKUP(E10,区分表!$A$2:$B$18,2,FALSE),"")="一般","一般の障害者",IF(AND(C10<>"本人",F10="同居"),"同居特別障害者","特別障害者")))))) | H10: =IF(G10="","",IF(G10="一般の障害者",270000,IF(G10="特別障害者",400000,IF(G10="同居特別障害者",750000,0)))) | I10: =IF(G10="","",IF(G10="対象外",0,IF(G10="一般の障害者",260000,IF(G10="特別障害者",300000,530000)))) | J10: =IF(OR(G10="",G10="対象外"),"",IF(C10="本人","本人",IF(C10="配偶者","同一生計配偶者","扶養親族（人数）")))
G11: =IF(OR(C11="",E11=""),"",IF(C11="特定親族","対象外",IF(AND(C11<>"本人",D11="62万円超"),"対象外",IF(IFERROR(VLOOKUP(E11,区分表!$A$2:$B$18,2,FALSE),"")="対象外","対象外",IF(IFERROR(VLOOKUP(E11,区分表!$A$2:$B$18,2,FALSE),"")="一般","一般の障害者",IF(AND(C11<>"本人",F11="同居"),"同居特別障害者","特別障害者")))))) | H11: =IF(G11="","",IF(G11="一般の障害者",270000,IF(G11="特別障害者",400000,IF(G11="同居特別障害者",750000,0)))) | I11: =IF(G11="","",IF(G11="対象外",0,IF(G11="一般の障害者",260000,IF(G11="特別障害者",300000,530000)))) | J11: =IF(OR(G11="",G11="対象外"),"",IF(C11="本人","本人",IF(C11="配偶者","同一生計配偶者","扶養親族（人数）")))
G12: =IF(OR(C12="",E12=""),"",IF(C12="特定親族","対象外",IF(AND(C12<>"本人",D12="62万円超"),"対象外",IF(IFERROR(VLOOKUP(E12,区分表!$A$2:$B$18,2,FALSE),"")="対象外","対象外",IF(IFERROR(VLOOKUP(E12,区分表!$A$2:$B$18,2,FALSE),"")="一般","一般の障害者",IF(AND(C12<>"本人",F12="同居"),"同居特別障害者","特別障害者")))))) | H12: =IF(G12="","",IF(G12="一般の障害者",270000,IF(G12="特別障害者",400000,IF(G12="同居特別障害者",750000,0)))) | I12: =IF(G12="","",IF(G12="対象外",0,IF(G12="一般の障害者",260000,IF(G12="特別障害者",300000,530000)))) | J12: =IF(OR(G12="",G12="対象外"),"",IF(C12="本人","本人",IF(C12="配偶者","同一生計配偶者","扶養親族（人数）")))
G13: =IF(OR(C13="",E13=""),"",IF(C13="特定親族","対象外",IF(AND(C13<>"本人",D13="62万円超"),"対象外",IF(IFERROR(VLOOKUP(E13,区分表!$A$2:$B$18,2,FALSE),"")="対象外","対象外",IF(IFERROR(VLOOKUP(E13,区分表!$A$2:$B$18,2,FALSE),"")="一般","一般の障害者",IF(AND(C13<>"本人",F13="同居"),"同居特別障害者","特別障害者")))))) | H13: =IF(G13="","",IF(G13="一般の障害者",270000,IF(G13="特別障害者",400000,IF(G13="同居特別障害者",750000,0)))) | I13: =IF(G13="","",IF(G13="対象外",0,IF(G13="一般の障害者",260000,IF(G13="特別障害者",300000,530000)))) | J13: =IF(OR(G13="",G13="対象外"),"",IF(C13="本人","本人",IF(C13="配偶者","同一生計配偶者","扶養親族（人数）")))
G14: =IF(OR(C14="",E14=""),"",IF(C14="特定親族","対象外",IF(AND(C14<>"本人",D14="62万円超"),"対象外",IF(IFERROR(VLOOKUP(E14,区分表!$A$2:$B$18,2,FALSE),"")="対象外","対象外",IF(IFERROR(VLOOKUP(E14,区分表!$A$2:$B$18,2,FALSE),"")="一般","一般の障害者",IF(AND(C14<>"本人",F14="同居"),"同居特別障害者","特別障害者")))))) | H14: =IF(G14="","",IF(G14="一般の障害者",270000,IF(G14="特別障害者",400000,IF(G14="同居特別障害者",750000,0)))) | I14: =IF(G14="","",IF(G14="対象外",0,IF(G14="一般の障害者",260000,IF(G14="特別障害者",300000,530000)))) | J14: =IF(OR(G14="",G14="対象外"),"",IF(C14="本人","本人",IF(C14="配偶者","同一生計配偶者","扶養親族（人数）")))
G15: =IF(OR(C15="",E15=""),"",IF(C15="特定親族","対象外",IF(AND(C15<>"本人",D15="62万円超"),"対象外",IF(IFERROR(VLOOKUP(E15,区分表!$A$2:$B$18,2,FALSE),"")="対象外","対象外",IF(IFERROR(VLOOKUP(E15,区分表!$A$2:$B$18,2,FALSE),"")="一般","一般の障害者",IF(AND(C15<>"本人",F15="同居"),"同居特別障害者","特別障害者")))))) | H15: =IF(G15="","",IF(G15="一般の障害者",270000,IF(G15="特別障害者",400000,IF(G15="同居特別障害者",750000,0)))) | I15: =IF(G15="","",IF(G15="対象外",0,IF(G15="一般の障害者",260000,IF(G15="特別障害者",300000,530000)))) | J15: =IF(OR(G15="",G15="対象外"),"",IF(C15="本人","本人",IF(C15="配偶者","同一生計配偶者","扶養親族（人数）")))
G16: =IF(OR(C16="",E16=""),"",IF(C16="特定親族","対象外",IF(AND(C16<>"本人",D16="62万円超"),"対象外",IF(IFERROR(VLOOKUP(E16,区分表!$A$2:$B$18,2,FALSE),"")="対象外","対象外",IF(IFERROR(VLOOKUP(E16,区分表!$A$2:$B$18,2,FALSE),"")="一般","一般の障害者",IF(AND(C16<>"本人",F16="同居"),"同居特別障害者","特別障害者")))))) | H16: =IF(G16="","",IF(G16="一般の障害者",270000,IF(G16="特別障害者",400000,IF(G16="同居特別障害者",750000,0)))) | I16: =IF(G16="","",IF(G16="対象外",0,IF(G16="一般の障害者",260000,IF(G16="特別障害者",300000,530000)))) | J16: =IF(OR(G16="",G16="対象外"),"",IF(C16="本人","本人",IF(C16="配偶者","同一生計配偶者","扶養親族（人数）")))
G17: =IF(OR(C17="",E17=""),"",IF(C17="特定親族","対象外",IF(AND(C17<>"本人",D17="62万円超"),"対象外",IF(IFERROR(VLOOKUP(E17,区分表!$A$2:$B$18,2,FALSE),"")="対象外","対象外",IF(IFERROR(VLOOKUP(E17,区分表!$A$2:$B$18,2,FALSE),"")="一般","一般の障害者",IF(AND(C17<>"本人",F17="同居"),"同居特別障害者","特別障害者")))))) | H17: =IF(G17="","",IF(G17="一般の障害者",270000,IF(G17="特別障害者",400000,IF(G17="同居特別障害者",750000,0)))) | I17: =IF(G17="","",IF(G17="対象外",0,IF(G17="一般の障害者",260000,IF(G17="特別障害者",300000,530000)))) | J17: =IF(OR(G17="",G17="対象外"),"",IF(C17="本人","本人",IF(C17="配偶者","同一生計配偶者","扶養親族（人数）")))
... G44: =IF(OR(C44="",E44=""),"",IF(C44="特定親族","対象外",IF(AND(C44<>"本人",D44="62万円超"),"対象外",IF(IFERROR(VLOOKUP(E44,区分表!$A$2:$B$18,2,FALSE),"")="対象外","対象外",IF(IFERROR(VLOOKUP(E44,区分表!$A$2:$B$18,2,FALSE),"")="一般","一般の障害者",IF(AND(C44<>"本人",F44="同居"),"同居特別障害者","特別障害者")))))) | H44: =IF(G44="","",IF(G44="一般の障害者",270000,IF(G44="特別障害者",400000,IF(G44="同居特別障害者",750000,0)))) | I44: =IF(G44="","",IF(G44="対象外",0,IF(G44="一般の障害者",260000,IF(G44="特別障害者",300000,530000)))) | J44: =IF(OR(G44="",G44="対象外"),"",IF(C44="本人","本人",IF(C44="配偶者","同一生計配偶者","扶養親族（人数）")))
G45: 合計 | H45: =SUM(H5:H44) | I45: =SUM(I5:I44)
A47: 注: 特定親族（19歳以上23歳未満で合計所得金額62万円超123万円以下）は扶養親族に当たらず障害者控除の対象外。16歳未満の扶養親族は対象。本人は同居特別障害者にならない。入院中は同居、老人ホーム等への入所は同居に当たらない。
A48: 注: 所得要件は所得税（令和8年分）・住民税（令和9年度分、地方税法292条の改正）とも合計所得金額62万円以下。給与のみなら令和8年の給与収入136万円以下が目安。

Sheet 区分表
A1: 障害の根拠 | B1: 区分
A2: 身体障害者手帳 1級・2級 | B2: 特別
A3: 身体障害者手帳 3級〜6級 | B3: 一般
A4: 精神障害者保健福祉手帳 1級 | B4: 特別
A5: 精神障害者保健福祉手帳 2級・3級 | B5: 一般
A6: 療育手帳 A（重度） | B6: 特別
A7: 療育手帳 B（その他） | B7: 一般
A8: 65歳以上の認定（特別障害者に準ずる） | B8: 特別
A9: 65歳以上の認定（障害者に準ずる） | B9: 一般
A10: 常に就床・複雑な介護を要する | B10: 特別
A11: 事理を弁識する能力を欠く常況 | B11: 特別
A12: 戦傷病者手帳（特別項症〜第三項症） | B12: 特別
... A18: 手帳・認定なし | B18: 対象外
A20: 根拠: 所得税法施行令10条／国税庁タックスアンサーNo.1160・No.1185・No.1186（2026-10-09確認）
